BEGIN:VCALENDAR
VERSION:2.0
PRODID:-//TYPO3/NONSGML News system (news)//EN
BEGIN:VEVENT
UID:news-75946@cirac.uni-graz.at
DTSTAMP:20210824T083057Z
DTSTART:20210701T065310Z
DTEND:20210915T070100Z
SUMMARY:Call for Abstracts: 2nd Virtual Interdisciplinary Doctoral Symposium on Aging and Care - Migration

DESCRIPTION:On October 19-20, the Second Interdisciplinary Doctoral Symposium on Aging and Care focusing on various dimensions of migration will take place. We are delighted to announce that Prof. Sandra Torres (Uppsala University, Sweden), leading expert in the field of Social Gerontology and Migration Studies, will hold a workshop on skills training for PhD students and additionally, give a keynote (titled &quot;Caring democracy: the role that theoretically-astute understandings of ethnicity and race must play&quot;) as part of the event.
END:VEVENT
END:VCALENDAR
